BEGIN:VCALENDAR
VERSION:2.0
PRODID:-//Kadampa Meditation Center Florida - ECPv6.15.20//NONSGML v1.0//EN
CALSCALE:GREGORIAN
METHOD:PUBLISH
X-ORIGINAL-URL:https://meditationinsarasota.org
X-WR-CALDESC:Events for Kadampa Meditation Center Florida
REFRESH-INTERVAL;VALUE=DURATION:PT1H
X-Robots-Tag:noindex
X-PUBLISHED-TTL:PT1H
BEGIN:VTIMEZONE
TZID:America/New_York
BEGIN:DAYLIGHT
TZOFFSETFROM:-0500
TZOFFSETTO:-0400
TZNAME:EDT
DTSTART:20250309T070000
END:DAYLIGHT
BEGIN:STANDARD
TZOFFSETFROM:-0400
TZOFFSETTO:-0500
TZNAME:EST
DTSTART:20251102T060000
END:STANDARD
BEGIN:DAYLIGHT
TZOFFSETFROM:-0500
TZOFFSETTO:-0400
TZNAME:EDT
DTSTART:20260308T070000
END:DAYLIGHT
BEGIN:STANDARD
TZOFFSETFROM:-0400
TZOFFSETTO:-0500
TZNAME:EST
DTSTART:20261101T060000
END:STANDARD
BEGIN:DAYLIGHT
TZOFFSETFROM:-0500
TZOFFSETTO:-0400
TZNAME:EDT
DTSTART:20270314T070000
END:DAYLIGHT
BEGIN:STANDARD
TZOFFSETFROM:-0400
TZOFFSETTO:-0500
TZNAME:EST
DTSTART:20271107T060000
END:STANDARD
END:VTIMEZONE
BEGIN:VEVENT
DTSTART;TZID=America/New_York:20260515T190000
DTEND;TZID=America/New_York:20260519T150000
DTSTAMP:20260419T084739
CREATED:20250620T234457Z
LAST-MODIFIED:20260410T225121Z
UID:10018436-1778871600-1779202800@meditationinsarasota.org
SUMMARY:Mandala Offering Retreat
DESCRIPTION:A mandala offering is a traditional imagined offering whereby you envision the entire universe transformed into a pure land and then mentally offer this to the Buddhas. A beautiful and creative practice\, it is an extraordinary method for generating positive energy and good fortune. Each session will include chanted prayers and plenty of time to explore this practice of making mandala offerings. If you are new to mandala offerings\, please arrive 30 minutes before your first session for a demonstration. \n  \nSchedule: \nFri\, May 15 \n\nMandala Offering Retreat Intro.: 7-8:30pm\n\nSat\, May 16 \n\nSession 1: 9-10:30am\nSession 2: 11:30am-1pm\nLunch: 1:15-2:15pm\nSession 3: 3-4:30pm\n\nSun\, May 17 \n\nSession 4: 9-10:30am\nSession 5: (Sunday Class): 11am-12:15pm\nSession 6: WFJ w/tsog and mantras 2-3:30pm\n\nMon\, May 18 \n\nSession 6: 9-10:30am\nSession 7: 11:30am-1pm\nLunch: 1:15-2:15pm\nSession 8: 3-4:30pm\n\nTue\, May 19 \n\nSession 9: 9-10:30am\nSession 10: 11:30am-1pm\nLunch: 1:15-2:15pm\nSession 11: 3-4:30pm\n\n  \nStay overnight! Single and shared rooms available. For accommodations\, CLICK HERE.
URL:https://meditationinsarasota.org/event/guru-yoga-and-mandala-offering-retreat/
LOCATION:Kadampa Meditation Center Florida\, 730 N Washington Blvd\, Sarasota\, FL\, 34236\, United States
CATEGORIES:Free Event,Special Events
ATTACH;FMTTYPE=image/png:https://meditationinsarasota.org/wp-content/uploads/2025/06/Guru-Yoga-Mandala-Offering.png
END:VEVENT
BEGIN:VEVENT
DTSTART;TZID=America/New_York:20260516T101500
DTEND;TZID=America/New_York:20260516T110000
DTSTAMP:20260419T084739
CREATED:20260417T023659Z
LAST-MODIFIED:20260417T023659Z
UID:10022423-1778926500-1778929200@meditationinsarasota.org
SUMMARY:Meditation for Peace
DESCRIPTION:Beneath all the hustle\, the conceptual thinking\, and emotions lies an inner calm\, an oasis of peace. Let’s come together and make that journey from the head to the heart. The world doesn’t have to stop; we don’t need silence to meditate and feel peaceful & connected with a clear mind and open heart \nFree guided mediation at the Bay with Buddhist nun\, Gen Lhadron \nEveryone is welcome to this unique meditation experience along the beautiful public beach located at the end of Blvd of the Arts in Sarasota. Parking is available next to Van Wezel. \n 
URL:https://meditationinsarasota.org/event/meditation-for-peace/
LOCATION:FL
CATEGORIES:Free Event,Special Events
ATTACH;FMTTYPE=image/png:https://meditationinsarasota.org/wp-content/uploads/2026/04/Awakening-the-Heart-Bay-pop-up-2026-1080-x-1080-px-6.png
END:VEVENT
BEGIN:VEVENT
DTSTART;TZID=America/New_York:20260516T133000
DTEND;TZID=America/New_York:20260516T153000
DTSTAMP:20260419T084739
CREATED:20260417T203907Z
LAST-MODIFIED:20260417T203907Z
UID:10022424-1778938200-1778945400@meditationinsarasota.org
SUMMARY:Center Cherishing
DESCRIPTION:All Kadampa centers are dedicated to all living beings. They belong to them\, remaining in their service for all time\, and can never be taken over by individuals or organizations and used for other purposes. \nFor this reason\, Venerable Geshe Kelsang Gyatso Rinpoche says that these centers are very precious and that whenever we engage in an action to benefit a center we are in fact benefitting all living beings. Through such actions we accumulate vast merit\, purify negativities and receive powerful blessings. \nThis event is a special opportunity for people to come together and cherish our center and in this way benefit our local community practically. Snacks will be provided. Everyone welcome!
URL:https://meditationinsarasota.org/event/center-cherishing-9/
LOCATION:Kadampa Meditation Center Florida\, 730 N Washington Blvd\, Sarasota\, FL\, 34236\, United States
CATEGORIES:Free Event,Special Events
ATTACH;FMTTYPE=image/png:https://meditationinsarasota.org/wp-content/uploads/2026/04/Volunteer-with-us-today-and-make-an-impact-that-matters.png
END:VEVENT
END:VCALENDAR