BEGIN:VCALENDAR
VERSION:2.0
PRODID:-//Kadampa Meditation Center Florida - ECPv6.15.20//NONSGML v1.0//EN
CALSCALE:GREGORIAN
METHOD:PUBLISH
X-ORIGINAL-URL:https://meditationinsarasota.org
X-WR-CALDESC:Events for Kadampa Meditation Center Florida
REFRESH-INTERVAL;VALUE=DURATION:PT1H
X-Robots-Tag:noindex
X-PUBLISHED-TTL:PT1H
BEGIN:VTIMEZONE
TZID:America/New_York
BEGIN:DAYLIGHT
TZOFFSETFROM:-0500
TZOFFSETTO:-0400
TZNAME:EDT
DTSTART:20250309T070000
END:DAYLIGHT
BEGIN:STANDARD
TZOFFSETFROM:-0400
TZOFFSETTO:-0500
TZNAME:EST
DTSTART:20251102T060000
END:STANDARD
BEGIN:DAYLIGHT
TZOFFSETFROM:-0500
TZOFFSETTO:-0400
TZNAME:EDT
DTSTART:20260308T070000
END:DAYLIGHT
BEGIN:STANDARD
TZOFFSETFROM:-0400
TZOFFSETTO:-0500
TZNAME:EST
DTSTART:20261101T060000
END:STANDARD
BEGIN:DAYLIGHT
TZOFFSETFROM:-0500
TZOFFSETTO:-0400
TZNAME:EDT
DTSTART:20270314T070000
END:DAYLIGHT
BEGIN:STANDARD
TZOFFSETFROM:-0400
TZOFFSETTO:-0500
TZNAME:EST
DTSTART:20271107T060000
END:STANDARD
END:VTIMEZONE
BEGIN:VEVENT
DTSTART;TZID=America/New_York:20260420T170000
DTEND;TZID=America/New_York:20260420T180000
DTSTAMP:20260420T081831
CREATED:20251028T181555Z
LAST-MODIFIED:20260410T225236Z
UID:10019683-1776704400-1776708000@meditationinsarasota.org
SUMMARY:Dakini Yoga (HYT)
DESCRIPTION:Prayers and meditations that contain the essence of the self-generation practice of Vajrayogini – the female enlightened Deity of Highest Yoga Tantra who is the manifestation of the wisdom of all Buddhas. It is also a six-session yoga – a simple but powerful daily practice for maintaining all Tantric commitments for those who have received a Highest Yoga Tantra empowerment – that has been specially arranged for those who have received the empowerment of Vajrayogini. Also included are lists of the Bodhisattva and Tantric vows and commitments\, and an explanation on how the practice of Dakini Yoga fulfils these commitments. \nThose attending should have received Highest Yoga Tantra empowerment or have the intention to do so in the near future.
URL:https://meditationinsarasota.org/event/dakini-yoga-hyt/2026-04-20/
LOCATION:Kadampa Meditation Center Florida\, 730 N Washington Blvd\, Sarasota\, FL\, 34236\, United States
CATEGORIES:Dakini Yoga,Puja
ATTACH;FMTTYPE=image/png:https://meditationinsarasota.org/wp-content/uploads/2024/01/DakiniYoga.png
END:VEVENT
END:VCALENDAR