BEGIN:VCALENDAR
VERSION:2.0
PRODID:-//Kadampa Meditation Center Florida - ECPv6.15.20//NONSGML v1.0//EN
CALSCALE:GREGORIAN
METHOD:PUBLISH
X-ORIGINAL-URL:https://meditationinsarasota.org
X-WR-CALDESC:Events for Kadampa Meditation Center Florida
REFRESH-INTERVAL;VALUE=DURATION:PT1H
X-Robots-Tag:noindex
X-PUBLISHED-TTL:PT1H
BEGIN:VTIMEZONE
TZID:America/New_York
BEGIN:DAYLIGHT
TZOFFSETFROM:-0500
TZOFFSETTO:-0400
TZNAME:EDT
DTSTART:20250309T070000
END:DAYLIGHT
BEGIN:STANDARD
TZOFFSETFROM:-0400
TZOFFSETTO:-0500
TZNAME:EST
DTSTART:20251102T060000
END:STANDARD
BEGIN:DAYLIGHT
TZOFFSETFROM:-0500
TZOFFSETTO:-0400
TZNAME:EDT
DTSTART:20260308T070000
END:DAYLIGHT
BEGIN:STANDARD
TZOFFSETFROM:-0400
TZOFFSETTO:-0500
TZNAME:EST
DTSTART:20261101T060000
END:STANDARD
BEGIN:DAYLIGHT
TZOFFSETFROM:-0500
TZOFFSETTO:-0400
TZNAME:EDT
DTSTART:20270314T070000
END:DAYLIGHT
BEGIN:STANDARD
TZOFFSETFROM:-0400
TZOFFSETTO:-0500
TZNAME:EST
DTSTART:20271107T060000
END:STANDARD
END:VTIMEZONE
BEGIN:VEVENT
DTSTART;TZID=America/New_York:20260202T183000
DTEND;TZID=America/New_York:20260202T203000
DTSTAMP:20260421T110449
CREATED:20260118T151207Z
LAST-MODIFIED:20260118T151207Z
UID:10019931-1770057000-1770064200@meditationinsarasota.org
SUMMARY:Teacher Training Program (TTP)
DESCRIPTION:The Teacher Training Program (TTP) is designed for students who wish to become qualified teachers of Modern Buddhism. There are twelve subjects and fourteen texts taught in TTP\, including the six texts taught in FP. Students are also required to observe certain commitments and to complete a number of meditation retreats each year. Enrollment must be approved by the Resident Teacher. Find out more information HERE.
URL:https://meditationinsarasota.org/event/teacher-training-program-ttp-7/
LOCATION:Kadampa Meditation Center Florida\, 730 N Washington Blvd\, Sarasota\, FL\, 34236\, United States
CATEGORIES:Study Program
ATTACH;FMTTYPE=image/png:https://meditationinsarasota.org/wp-content/uploads/2025/06/Teacher-Training-Program-GL.png
END:VEVENT
BEGIN:VEVENT
DTSTART;TZID=America/New_York:20260204T183000
DTEND;TZID=America/New_York:20260204T203000
DTSTAMP:20260421T110449
CREATED:20251214T215646Z
LAST-MODIFIED:20251214T215646Z
UID:10018483-1770229800-1770237000@meditationinsarasota.org
SUMMARY:Foundation Program (FP)
DESCRIPTION:The Foundation Program gives students the opportunity to engage in a more in-depth and structured approach to the practices of meditation and Buddhism. The structured curriculum allows us to develop a genuine experience of the Dharma while integrating it into our modern way of life. Participating in this program helps cultivate confidence in meditation\, from fundamental techniques for addressing daily challenges to advanced practices that lead to ultimate happiness and lasting inner peace. Find out more HERE.
URL:https://meditationinsarasota.org/event/foundation-program-fp-3-2-3/2026-02-04/
LOCATION:Kadampa Meditation Center Florida\, 730 N Washington Blvd\, Sarasota\, FL\, 34236\, United States
CATEGORIES:Study Program
ATTACH;FMTTYPE=image/png:https://meditationinsarasota.org/wp-content/uploads/2025/06/Foundation-Program-FP-GL.png
END:VEVENT
BEGIN:VEVENT
DTSTART;TZID=America/New_York:20260205T183000
DTEND;TZID=America/New_York:20260205T203000
DTSTAMP:20260421T110449
CREATED:20251220T104426Z
LAST-MODIFIED:20260326T205028Z
UID:10020085-1770316200-1770323400@meditationinsarasota.org
SUMMARY:Teacher Training Program (TTP)
DESCRIPTION:The Teacher Training Program (TTP) is designed for students who wish to become qualified teachers of Modern Buddhism. There are twelve subjects and fourteen texts taught in TTP\, including the six texts taught in FP. Students are also required to observe certain commitments and to complete a number of meditation retreats each year. Enrollment must be approved by the Resident Teacher. Find out more information HERE.
URL:https://meditationinsarasota.org/event/teacher-training-program-ttp-6-2/2026-02-05/
LOCATION:Kadampa Meditation Center Florida\, 730 N Washington Blvd\, Sarasota\, FL\, 34236\, United States
CATEGORIES:Study Program
ATTACH;FMTTYPE=image/png:https://meditationinsarasota.org/wp-content/uploads/2025/06/Teacher-Training-Program-GL.png
END:VEVENT
BEGIN:VEVENT
DTSTART;TZID=America/New_York:20260209T183000
DTEND;TZID=America/New_York:20260209T203000
DTSTAMP:20260421T110449
CREATED:20260118T151231Z
LAST-MODIFIED:20260118T151231Z
UID:10019932-1770661800-1770669000@meditationinsarasota.org
SUMMARY:Teacher Training Program (TTP)
DESCRIPTION:The Teacher Training Program (TTP) is designed for students who wish to become qualified teachers of Modern Buddhism. There are twelve subjects and fourteen texts taught in TTP\, including the six texts taught in FP. Students are also required to observe certain commitments and to complete a number of meditation retreats each year. Enrollment must be approved by the Resident Teacher. Find out more information HERE.
URL:https://meditationinsarasota.org/event/teacher-training-program-ttp-8/
LOCATION:Kadampa Meditation Center Florida\, 730 N Washington Blvd\, Sarasota\, FL\, 34236\, United States
CATEGORIES:Study Program
ATTACH;FMTTYPE=image/png:https://meditationinsarasota.org/wp-content/uploads/2025/06/Teacher-Training-Program-GL.png
END:VEVENT
BEGIN:VEVENT
DTSTART;TZID=America/New_York:20260211T183000
DTEND;TZID=America/New_York:20260211T203000
DTSTAMP:20260421T110449
CREATED:20251214T215646Z
LAST-MODIFIED:20251214T215646Z
UID:10018484-1770834600-1770841800@meditationinsarasota.org
SUMMARY:Foundation Program (FP)
DESCRIPTION:The Foundation Program gives students the opportunity to engage in a more in-depth and structured approach to the practices of meditation and Buddhism. The structured curriculum allows us to develop a genuine experience of the Dharma while integrating it into our modern way of life. Participating in this program helps cultivate confidence in meditation\, from fundamental techniques for addressing daily challenges to advanced practices that lead to ultimate happiness and lasting inner peace. Find out more HERE.
URL:https://meditationinsarasota.org/event/foundation-program-fp-3-2-3/2026-02-11/
LOCATION:Kadampa Meditation Center Florida\, 730 N Washington Blvd\, Sarasota\, FL\, 34236\, United States
CATEGORIES:Study Program
ATTACH;FMTTYPE=image/png:https://meditationinsarasota.org/wp-content/uploads/2025/06/Foundation-Program-FP-GL.png
END:VEVENT
BEGIN:VEVENT
DTSTART;TZID=America/New_York:20260212T183000
DTEND;TZID=America/New_York:20260212T203000
DTSTAMP:20260421T110449
CREATED:20251220T104426Z
LAST-MODIFIED:20260326T205028Z
UID:10020086-1770921000-1770928200@meditationinsarasota.org
SUMMARY:Teacher Training Program (TTP)
DESCRIPTION:The Teacher Training Program (TTP) is designed for students who wish to become qualified teachers of Modern Buddhism. There are twelve subjects and fourteen texts taught in TTP\, including the six texts taught in FP. Students are also required to observe certain commitments and to complete a number of meditation retreats each year. Enrollment must be approved by the Resident Teacher. Find out more information HERE.
URL:https://meditationinsarasota.org/event/teacher-training-program-ttp-6-2/2026-02-12/
LOCATION:Kadampa Meditation Center Florida\, 730 N Washington Blvd\, Sarasota\, FL\, 34236\, United States
CATEGORIES:Study Program
ATTACH;FMTTYPE=image/png:https://meditationinsarasota.org/wp-content/uploads/2025/06/Teacher-Training-Program-GL.png
END:VEVENT
BEGIN:VEVENT
DTSTART;TZID=America/New_York:20260216T183000
DTEND;TZID=America/New_York:20260216T203000
DTSTAMP:20260421T110449
CREATED:20260118T151242Z
LAST-MODIFIED:20260118T151242Z
UID:10019933-1771266600-1771273800@meditationinsarasota.org
SUMMARY:Teacher Training Program (TTP)
DESCRIPTION:The Teacher Training Program (TTP) is designed for students who wish to become qualified teachers of Modern Buddhism. There are twelve subjects and fourteen texts taught in TTP\, including the six texts taught in FP. Students are also required to observe certain commitments and to complete a number of meditation retreats each year. Enrollment must be approved by the Resident Teacher. Find out more information HERE.
URL:https://meditationinsarasota.org/event/teacher-training-program-ttp-9/
LOCATION:Kadampa Meditation Center Florida\, 730 N Washington Blvd\, Sarasota\, FL\, 34236\, United States
CATEGORIES:Study Program
ATTACH;FMTTYPE=image/png:https://meditationinsarasota.org/wp-content/uploads/2025/06/Teacher-Training-Program-GL.png
END:VEVENT
BEGIN:VEVENT
DTSTART;TZID=America/New_York:20260218T183000
DTEND;TZID=America/New_York:20260218T203000
DTSTAMP:20260421T110449
CREATED:20251214T215646Z
LAST-MODIFIED:20251214T215646Z
UID:10018485-1771439400-1771446600@meditationinsarasota.org
SUMMARY:Foundation Program (FP)
DESCRIPTION:The Foundation Program gives students the opportunity to engage in a more in-depth and structured approach to the practices of meditation and Buddhism. The structured curriculum allows us to develop a genuine experience of the Dharma while integrating it into our modern way of life. Participating in this program helps cultivate confidence in meditation\, from fundamental techniques for addressing daily challenges to advanced practices that lead to ultimate happiness and lasting inner peace. Find out more HERE.
URL:https://meditationinsarasota.org/event/foundation-program-fp-3-2-3/2026-02-18/
LOCATION:Kadampa Meditation Center Florida\, 730 N Washington Blvd\, Sarasota\, FL\, 34236\, United States
CATEGORIES:Study Program
ATTACH;FMTTYPE=image/png:https://meditationinsarasota.org/wp-content/uploads/2025/06/Foundation-Program-FP-GL.png
END:VEVENT
BEGIN:VEVENT
DTSTART;TZID=America/New_York:20260219T183000
DTEND;TZID=America/New_York:20260219T203000
DTSTAMP:20260421T110449
CREATED:20251220T104426Z
LAST-MODIFIED:20260326T205028Z
UID:10020087-1771525800-1771533000@meditationinsarasota.org
SUMMARY:Teacher Training Program (TTP)
DESCRIPTION:The Teacher Training Program (TTP) is designed for students who wish to become qualified teachers of Modern Buddhism. There are twelve subjects and fourteen texts taught in TTP\, including the six texts taught in FP. Students are also required to observe certain commitments and to complete a number of meditation retreats each year. Enrollment must be approved by the Resident Teacher. Find out more information HERE.
URL:https://meditationinsarasota.org/event/teacher-training-program-ttp-6-2/2026-02-19/
LOCATION:Kadampa Meditation Center Florida\, 730 N Washington Blvd\, Sarasota\, FL\, 34236\, United States
CATEGORIES:Study Program
ATTACH;FMTTYPE=image/png:https://meditationinsarasota.org/wp-content/uploads/2025/06/Teacher-Training-Program-GL.png
END:VEVENT
BEGIN:VEVENT
DTSTART;TZID=America/New_York:20260223T183000
DTEND;TZID=America/New_York:20260223T203000
DTSTAMP:20260421T110449
CREATED:20251220T104334Z
LAST-MODIFIED:20260326T204928Z
UID:10019496-1771871400-1771878600@meditationinsarasota.org
SUMMARY:Teacher Training Program (TTP)
DESCRIPTION:The Teacher Training Program (TTP) is designed for students who wish to become qualified teachers of Modern Buddhism. There are twelve subjects and fourteen texts taught in TTP\, including the six texts taught in FP. Students are also required to observe certain commitments and to complete a number of meditation retreats each year. Enrollment must be approved by the Resident Teacher. Find out more information HERE.
URL:https://meditationinsarasota.org/event/teacher-training-program-ttp-6/2026-02-23/
LOCATION:Kadampa Meditation Center Florida\, 730 N Washington Blvd\, Sarasota\, FL\, 34236\, United States
CATEGORIES:Study Program
ATTACH;FMTTYPE=image/png:https://meditationinsarasota.org/wp-content/uploads/2025/06/Teacher-Training-Program-GL.png
END:VEVENT
BEGIN:VEVENT
DTSTART;TZID=America/New_York:20260225T183000
DTEND;TZID=America/New_York:20260225T203000
DTSTAMP:20260421T110449
CREATED:20251214T215646Z
LAST-MODIFIED:20251214T215646Z
UID:10018486-1772044200-1772051400@meditationinsarasota.org
SUMMARY:Foundation Program (FP)
DESCRIPTION:The Foundation Program gives students the opportunity to engage in a more in-depth and structured approach to the practices of meditation and Buddhism. The structured curriculum allows us to develop a genuine experience of the Dharma while integrating it into our modern way of life. Participating in this program helps cultivate confidence in meditation\, from fundamental techniques for addressing daily challenges to advanced practices that lead to ultimate happiness and lasting inner peace. Find out more HERE.
URL:https://meditationinsarasota.org/event/foundation-program-fp-3-2-3/2026-02-25/
LOCATION:Kadampa Meditation Center Florida\, 730 N Washington Blvd\, Sarasota\, FL\, 34236\, United States
CATEGORIES:Study Program
ATTACH;FMTTYPE=image/png:https://meditationinsarasota.org/wp-content/uploads/2025/06/Foundation-Program-FP-GL.png
END:VEVENT
BEGIN:VEVENT
DTSTART;TZID=America/New_York:20260226T183000
DTEND;TZID=America/New_York:20260226T203000
DTSTAMP:20260421T110449
CREATED:20251220T104426Z
LAST-MODIFIED:20260326T205028Z
UID:10019497-1772130600-1772137800@meditationinsarasota.org
SUMMARY:Teacher Training Program (TTP)
DESCRIPTION:The Teacher Training Program (TTP) is designed for students who wish to become qualified teachers of Modern Buddhism. There are twelve subjects and fourteen texts taught in TTP\, including the six texts taught in FP. Students are also required to observe certain commitments and to complete a number of meditation retreats each year. Enrollment must be approved by the Resident Teacher. Find out more information HERE.
URL:https://meditationinsarasota.org/event/teacher-training-program-ttp-6-2/2026-02-26/
LOCATION:Kadampa Meditation Center Florida\, 730 N Washington Blvd\, Sarasota\, FL\, 34236\, United States
CATEGORIES:Study Program
ATTACH;FMTTYPE=image/png:https://meditationinsarasota.org/wp-content/uploads/2025/06/Teacher-Training-Program-GL.png
END:VEVENT
END:VCALENDAR