BEGIN:VCALENDAR
VERSION:2.0
PRODID:-//Kadampa Meditation Center Florida - ECPv6.15.20//NONSGML v1.0//EN
CALSCALE:GREGORIAN
METHOD:PUBLISH
X-WR-CALNAME:Kadampa Meditation Center Florida
X-ORIGINAL-URL:https://meditationinsarasota.org
X-WR-CALDESC:Events for Kadampa Meditation Center Florida
REFRESH-INTERVAL;VALUE=DURATION:PT1H
X-Robots-Tag:noindex
X-PUBLISHED-TTL:PT1H
BEGIN:VTIMEZONE
TZID:America/New_York
BEGIN:DAYLIGHT
TZOFFSETFROM:-0500
TZOFFSETTO:-0400
TZNAME:EDT
DTSTART:20250309T070000
END:DAYLIGHT
BEGIN:STANDARD
TZOFFSETFROM:-0400
TZOFFSETTO:-0500
TZNAME:EST
DTSTART:20251102T060000
END:STANDARD
BEGIN:DAYLIGHT
TZOFFSETFROM:-0500
TZOFFSETTO:-0400
TZNAME:EDT
DTSTART:20260308T070000
END:DAYLIGHT
BEGIN:STANDARD
TZOFFSETFROM:-0400
TZOFFSETTO:-0500
TZNAME:EST
DTSTART:20261101T060000
END:STANDARD
BEGIN:DAYLIGHT
TZOFFSETFROM:-0500
TZOFFSETTO:-0400
TZNAME:EDT
DTSTART:20270314T070000
END:DAYLIGHT
BEGIN:STANDARD
TZOFFSETFROM:-0400
TZOFFSETTO:-0500
TZNAME:EST
DTSTART:20271107T060000
END:STANDARD
END:VTIMEZONE
BEGIN:VEVENT
DTSTART;TZID=America/New_York:20260504T183000
DTEND;TZID=America/New_York:20260504T203000
DTSTAMP:20260421T094403
CREATED:20251220T104334Z
LAST-MODIFIED:20260326T204928Z
UID:10020353-1777919400-1777926600@meditationinsarasota.org
SUMMARY:Teacher Training Program (TTP)
DESCRIPTION:The Teacher Training Program (TTP) is designed for students who wish to become qualified teachers of Modern Buddhism. There are twelve subjects and fourteen texts taught in TTP\, including the six texts taught in FP. Students are also required to observe certain commitments and to complete a number of meditation retreats each year. Enrollment must be approved by the Resident Teacher. Find out more information HERE.
URL:https://meditationinsarasota.org/event/teacher-training-program-ttp-6/2026-05-04/
LOCATION:Kadampa Meditation Center Florida\, 730 N Washington Blvd\, Sarasota\, FL\, 34236\, United States
CATEGORIES:Study Program
ATTACH;FMTTYPE=image/png:https://meditationinsarasota.org/wp-content/uploads/2025/06/Teacher-Training-Program-GL.png
END:VEVENT
BEGIN:VEVENT
DTSTART;TZID=America/New_York:20260506T183000
DTEND;TZID=America/New_York:20260506T203000
DTSTAMP:20260421T094403
CREATED:20251214T215646Z
LAST-MODIFIED:20251214T215646Z
UID:10018496-1778092200-1778099400@meditationinsarasota.org
SUMMARY:Foundation Program (FP)
DESCRIPTION:The Foundation Program gives students the opportunity to engage in a more in-depth and structured approach to the practices of meditation and Buddhism. The structured curriculum allows us to develop a genuine experience of the Dharma while integrating it into our modern way of life. Participating in this program helps cultivate confidence in meditation\, from fundamental techniques for addressing daily challenges to advanced practices that lead to ultimate happiness and lasting inner peace. Find out more HERE.
URL:https://meditationinsarasota.org/event/foundation-program-fp-3-2-3/2026-05-06/
LOCATION:Kadampa Meditation Center Florida\, 730 N Washington Blvd\, Sarasota\, FL\, 34236\, United States
CATEGORIES:Study Program
ATTACH;FMTTYPE=image/png:https://meditationinsarasota.org/wp-content/uploads/2025/06/Foundation-Program-FP-GL.png
END:VEVENT
BEGIN:VEVENT
DTSTART;TZID=America/New_York:20260507T183000
DTEND;TZID=America/New_York:20260507T203000
DTSTAMP:20260421T094403
CREATED:20251220T104426Z
LAST-MODIFIED:20260326T205028Z
UID:10020097-1778178600-1778185800@meditationinsarasota.org
SUMMARY:Teacher Training Program (TTP)
DESCRIPTION:The Teacher Training Program (TTP) is designed for students who wish to become qualified teachers of Modern Buddhism. There are twelve subjects and fourteen texts taught in TTP\, including the six texts taught in FP. Students are also required to observe certain commitments and to complete a number of meditation retreats each year. Enrollment must be approved by the Resident Teacher. Find out more information HERE.
URL:https://meditationinsarasota.org/event/teacher-training-program-ttp-6-2/2026-05-07/
LOCATION:Kadampa Meditation Center Florida\, 730 N Washington Blvd\, Sarasota\, FL\, 34236\, United States
CATEGORIES:Study Program
ATTACH;FMTTYPE=image/png:https://meditationinsarasota.org/wp-content/uploads/2025/06/Teacher-Training-Program-GL.png
END:VEVENT
BEGIN:VEVENT
DTSTART;TZID=America/New_York:20260511T183000
DTEND;TZID=America/New_York:20260511T203000
DTSTAMP:20260421T094404
CREATED:20251220T104334Z
LAST-MODIFIED:20260326T204928Z
UID:10020354-1778524200-1778531400@meditationinsarasota.org
SUMMARY:Teacher Training Program (TTP)
DESCRIPTION:The Teacher Training Program (TTP) is designed for students who wish to become qualified teachers of Modern Buddhism. There are twelve subjects and fourteen texts taught in TTP\, including the six texts taught in FP. Students are also required to observe certain commitments and to complete a number of meditation retreats each year. Enrollment must be approved by the Resident Teacher. Find out more information HERE.
URL:https://meditationinsarasota.org/event/teacher-training-program-ttp-6/2026-05-11/
LOCATION:Kadampa Meditation Center Florida\, 730 N Washington Blvd\, Sarasota\, FL\, 34236\, United States
CATEGORIES:Study Program
ATTACH;FMTTYPE=image/png:https://meditationinsarasota.org/wp-content/uploads/2025/06/Teacher-Training-Program-GL.png
END:VEVENT
BEGIN:VEVENT
DTSTART;TZID=America/New_York:20260513T183000
DTEND;TZID=America/New_York:20260513T203000
DTSTAMP:20260421T094404
CREATED:20251214T215646Z
LAST-MODIFIED:20251214T215646Z
UID:10018497-1778697000-1778704200@meditationinsarasota.org
SUMMARY:Foundation Program (FP)
DESCRIPTION:The Foundation Program gives students the opportunity to engage in a more in-depth and structured approach to the practices of meditation and Buddhism. The structured curriculum allows us to develop a genuine experience of the Dharma while integrating it into our modern way of life. Participating in this program helps cultivate confidence in meditation\, from fundamental techniques for addressing daily challenges to advanced practices that lead to ultimate happiness and lasting inner peace. Find out more HERE.
URL:https://meditationinsarasota.org/event/foundation-program-fp-3-2-3/2026-05-13/
LOCATION:Kadampa Meditation Center Florida\, 730 N Washington Blvd\, Sarasota\, FL\, 34236\, United States
CATEGORIES:Study Program
ATTACH;FMTTYPE=image/png:https://meditationinsarasota.org/wp-content/uploads/2025/06/Foundation-Program-FP-GL.png
END:VEVENT
BEGIN:VEVENT
DTSTART;TZID=America/New_York:20260514T183000
DTEND;TZID=America/New_York:20260514T203000
DTSTAMP:20260421T094404
CREATED:20251220T104426Z
LAST-MODIFIED:20260326T205028Z
UID:10020098-1778783400-1778790600@meditationinsarasota.org
SUMMARY:Teacher Training Program (TTP)
DESCRIPTION:The Teacher Training Program (TTP) is designed for students who wish to become qualified teachers of Modern Buddhism. There are twelve subjects and fourteen texts taught in TTP\, including the six texts taught in FP. Students are also required to observe certain commitments and to complete a number of meditation retreats each year. Enrollment must be approved by the Resident Teacher. Find out more information HERE.
URL:https://meditationinsarasota.org/event/teacher-training-program-ttp-6-2/2026-05-14/
LOCATION:Kadampa Meditation Center Florida\, 730 N Washington Blvd\, Sarasota\, FL\, 34236\, United States
CATEGORIES:Study Program
ATTACH;FMTTYPE=image/png:https://meditationinsarasota.org/wp-content/uploads/2025/06/Teacher-Training-Program-GL.png
END:VEVENT
BEGIN:VEVENT
DTSTART;TZID=America/New_York:20260518T183000
DTEND;TZID=America/New_York:20260518T203000
DTSTAMP:20260421T094404
CREATED:20251220T104334Z
LAST-MODIFIED:20260326T204928Z
UID:10020355-1779129000-1779136200@meditationinsarasota.org
SUMMARY:Teacher Training Program (TTP)
DESCRIPTION:The Teacher Training Program (TTP) is designed for students who wish to become qualified teachers of Modern Buddhism. There are twelve subjects and fourteen texts taught in TTP\, including the six texts taught in FP. Students are also required to observe certain commitments and to complete a number of meditation retreats each year. Enrollment must be approved by the Resident Teacher. Find out more information HERE.
URL:https://meditationinsarasota.org/event/teacher-training-program-ttp-6/2026-05-18/
LOCATION:Kadampa Meditation Center Florida\, 730 N Washington Blvd\, Sarasota\, FL\, 34236\, United States
CATEGORIES:Study Program
ATTACH;FMTTYPE=image/png:https://meditationinsarasota.org/wp-content/uploads/2025/06/Teacher-Training-Program-GL.png
END:VEVENT
BEGIN:VEVENT
DTSTART;TZID=America/New_York:20260520T183000
DTEND;TZID=America/New_York:20260520T203000
DTSTAMP:20260421T094404
CREATED:20251214T215646Z
LAST-MODIFIED:20251214T215646Z
UID:10018498-1779301800-1779309000@meditationinsarasota.org
SUMMARY:Foundation Program (FP)
DESCRIPTION:The Foundation Program gives students the opportunity to engage in a more in-depth and structured approach to the practices of meditation and Buddhism. The structured curriculum allows us to develop a genuine experience of the Dharma while integrating it into our modern way of life. Participating in this program helps cultivate confidence in meditation\, from fundamental techniques for addressing daily challenges to advanced practices that lead to ultimate happiness and lasting inner peace. Find out more HERE.
URL:https://meditationinsarasota.org/event/foundation-program-fp-3-2-3/2026-05-20/
LOCATION:Kadampa Meditation Center Florida\, 730 N Washington Blvd\, Sarasota\, FL\, 34236\, United States
CATEGORIES:Study Program
ATTACH;FMTTYPE=image/png:https://meditationinsarasota.org/wp-content/uploads/2025/06/Foundation-Program-FP-GL.png
END:VEVENT
BEGIN:VEVENT
DTSTART;TZID=America/New_York:20260521T183000
DTEND;TZID=America/New_York:20260521T203000
DTSTAMP:20260421T094404
CREATED:20251220T104426Z
LAST-MODIFIED:20260326T205028Z
UID:10020099-1779388200-1779395400@meditationinsarasota.org
SUMMARY:Teacher Training Program (TTP)
DESCRIPTION:The Teacher Training Program (TTP) is designed for students who wish to become qualified teachers of Modern Buddhism. There are twelve subjects and fourteen texts taught in TTP\, including the six texts taught in FP. Students are also required to observe certain commitments and to complete a number of meditation retreats each year. Enrollment must be approved by the Resident Teacher. Find out more information HERE.
URL:https://meditationinsarasota.org/event/teacher-training-program-ttp-6-2/2026-05-21/
LOCATION:Kadampa Meditation Center Florida\, 730 N Washington Blvd\, Sarasota\, FL\, 34236\, United States
CATEGORIES:Study Program
ATTACH;FMTTYPE=image/png:https://meditationinsarasota.org/wp-content/uploads/2025/06/Teacher-Training-Program-GL.png
END:VEVENT
BEGIN:VEVENT
DTSTART;TZID=America/New_York:20260525T183000
DTEND;TZID=America/New_York:20260525T203000
DTSTAMP:20260421T094404
CREATED:20251220T104334Z
LAST-MODIFIED:20260326T204928Z
UID:10020356-1779733800-1779741000@meditationinsarasota.org
SUMMARY:Teacher Training Program (TTP)
DESCRIPTION:The Teacher Training Program (TTP) is designed for students who wish to become qualified teachers of Modern Buddhism. There are twelve subjects and fourteen texts taught in TTP\, including the six texts taught in FP. Students are also required to observe certain commitments and to complete a number of meditation retreats each year. Enrollment must be approved by the Resident Teacher. Find out more information HERE.
URL:https://meditationinsarasota.org/event/teacher-training-program-ttp-6/2026-05-25/
LOCATION:Kadampa Meditation Center Florida\, 730 N Washington Blvd\, Sarasota\, FL\, 34236\, United States
CATEGORIES:Study Program
ATTACH;FMTTYPE=image/png:https://meditationinsarasota.org/wp-content/uploads/2025/06/Teacher-Training-Program-GL.png
END:VEVENT
BEGIN:VEVENT
DTSTART;TZID=America/New_York:20260527T183000
DTEND;TZID=America/New_York:20260527T203000
DTSTAMP:20260421T094404
CREATED:20251214T215646Z
LAST-MODIFIED:20251214T215646Z
UID:10018499-1779906600-1779913800@meditationinsarasota.org
SUMMARY:Foundation Program (FP)
DESCRIPTION:The Foundation Program gives students the opportunity to engage in a more in-depth and structured approach to the practices of meditation and Buddhism. The structured curriculum allows us to develop a genuine experience of the Dharma while integrating it into our modern way of life. Participating in this program helps cultivate confidence in meditation\, from fundamental techniques for addressing daily challenges to advanced practices that lead to ultimate happiness and lasting inner peace. Find out more HERE.
URL:https://meditationinsarasota.org/event/foundation-program-fp-3-2-3/2026-05-27/
LOCATION:Kadampa Meditation Center Florida\, 730 N Washington Blvd\, Sarasota\, FL\, 34236\, United States
CATEGORIES:Study Program
ATTACH;FMTTYPE=image/png:https://meditationinsarasota.org/wp-content/uploads/2025/06/Foundation-Program-FP-GL.png
END:VEVENT
BEGIN:VEVENT
DTSTART;TZID=America/New_York:20260528T183000
DTEND;TZID=America/New_York:20260528T203000
DTSTAMP:20260421T094404
CREATED:20251220T104426Z
LAST-MODIFIED:20260326T205028Z
UID:10020100-1779993000-1780000200@meditationinsarasota.org
SUMMARY:Teacher Training Program (TTP)
DESCRIPTION:The Teacher Training Program (TTP) is designed for students who wish to become qualified teachers of Modern Buddhism. There are twelve subjects and fourteen texts taught in TTP\, including the six texts taught in FP. Students are also required to observe certain commitments and to complete a number of meditation retreats each year. Enrollment must be approved by the Resident Teacher. Find out more information HERE.
URL:https://meditationinsarasota.org/event/teacher-training-program-ttp-6-2/2026-05-28/
LOCATION:Kadampa Meditation Center Florida\, 730 N Washington Blvd\, Sarasota\, FL\, 34236\, United States
CATEGORIES:Study Program
ATTACH;FMTTYPE=image/png:https://meditationinsarasota.org/wp-content/uploads/2025/06/Teacher-Training-Program-GL.png
END:VEVENT
END:VCALENDAR